BEGIN:VCALENDAR
VERSION:2.0
PRODID:-//Esch-sur-S&ucirc;re - ECPv4.6.4//NONSGML v1.0//EN
CALSCALE:GREGORIAN
METHOD:PUBLISH
X-WR-CALNAME:Esch-sur-S&ucirc;re
X-ORIGINAL-URL:https://www.esch-sur-sure.lu
X-WR-CALDESC:Events for Esch-sur-S&ucirc;re
BEGIN:VEVENT
DTSTART;TZID=UTC+1:20180529T200000
DTEND;TZID=UTC+1:20180529T200000
DTSTAMP:20180630T170739
CREATED:20180525T074217Z
LAST-MODIFIED:20180525T074243Z
UID:7263-1527624000-1527624000@www.esch-sur-sure.lu
SUMMARY:Assemblée générale Guiden a Scouten St. Pirmin
DESCRIPTION: \n
URL:https://www.esch-sur-sure.lu/event/assemble-generale-guide-a-scouten-st-pirmin/
LOCATION:Luxembourg
GEO:49.815273;6.129583
END:VEVENT
BEGIN:VEVENT
DTSTART;VALUE=DATE:20180602
DTEND;VALUE=DATE:20180603
DTSTAMP:20180630T170739
CREATED:20180523T093605Z
LAST-MODIFIED:20180523T093658Z
UID:7235-1527897600-1527983999@www.esch-sur-sure.lu
SUMMARY:Nuit du Sport 2018
DESCRIPTION:Flyer A5 NDS 2018 Esch Sauer \n
URL:https://www.esch-sur-sure.lu/event/nuit-du-sport-2018/
END:VEVENT
BEGIN:VEVENT
DTSTART;TZID=UTC+1:20180603T100000
DTEND;TZID=UTC+1:20180603T180000
DTSTAMP:20180630T170739
CREATED:20180514T134048Z
LAST-MODIFIED:20180514T134645Z
UID:7182-1528020000-1528048800@www.esch-sur-sure.lu
SUMMARY:Promenade gourmande à Merscheid le 03.06.2018
DESCRIPTION: \n
URL:https://www.esch-sur-sure.lu/event/promenade-gourmande-a-merscheid-le-03-06-2018/
LOCATION:Merscheid\, Luxembourg
ORGANIZER;CN="Liewenshaff":MAILTO:liewenshaff@pt.lu
END:VEVENT
BEGIN:VEVENT
DTSTART;TZID=UTC+1:20180624T160000
DTEND;TZID=UTC+1:20180624T160000
DTSTAMP:20180630T170739
CREATED:20180523T144250Z
LAST-MODIFIED:20180523T144250Z
UID:7238-1529856000-1529856000@www.esch-sur-sure.lu
SUMMARY:Krimi-Liesung a Kraider-Atelier
DESCRIPTION:Kräider heelsam oder déitlech \nKrimi-Liesung a Kraider-Atelier \nden 24. Juni um 16:00 Auer am Gaart vum Edmée a Marco Schank \n  \nOrganiseiert vun der Bibliothéik Eschduerf a.s.b.l. \n
URL:https://www.esch-sur-sure.lu/event/krimi-liesung-a-kraider-atelier/
END:VEVENT
BEGIN:VEVENT
DTSTART;TZID=UTC+1:20180629T190000
DTEND;TZID=UTC+1:20180629T190000
DTSTAMP:20180630T170739
CREATED:20180516T100545Z
LAST-MODIFIED:20180516T100554Z
UID:7200-1530298800-1530298800@www.esch-sur-sure.lu
SUMMARY:Jazz & Blues Festival 2018
DESCRIPTION:  \n
URL:https://www.esch-sur-sure.lu/event/jazz-blues-festival-2018/
ATTACH;FMTTYPE=image/jpeg:https://www.esch-sur-sure.lu/wp-content/uploads/2018/05/Affiche-2018.jpg
ORGANIZER;CN="Liewenshaff":MAILTO:liewenshaff@pt.lu
END:VEVENT
BEGIN:VEVENT
DTSTART;TZID=UTC+1:20180630T000000
DTEND;TZID=UTC+1:20180630T000000
DTSTAMP:20180630T170739
CREATED:20180314T145050Z
LAST-MODIFIED:20180314T145050Z
UID:6955-1530316800-1530316800@www.esch-sur-sure.lu
SUMMARY:Nuit des légendes Esch-Sauer
DESCRIPTION:
URL:https://www.esch-sur-sure.lu/event/nuit-des-legendes-esch-sauer/
END:VEVENT
END:VCALENDAR